Workbook

Sheet 日野市下水道使用料計算シート
B2: 日野市下水道使用料 計算シート 2か月あたり
C4: 使用水量（2か月） | D4: 32 | F4: ｍ³←使用量（使用水量）を入力してください
B7: 検針票の場合 | F7: 東京都水道局アプリの場合
D23: (2か月分)
B24: 下水道使用料 | C24: 基本料金 | D24: =改定前料金!B10 -> 1120 | E24: 円
C25: 従量料金 | D25: =SUM(改定前料金!B11:B18) -> 1760 | E25: 円
C26: 消費税等相当額 | D26: =(D24+D25)*改定前料金!E6 -> 288 | E26: 円
C27: 下水道使用料合計 | D27: =SUM(D24:D26) -> 3168 | E27: 円
B28: 水道水以外の水を使用した場合や下水道使用料の減免の対象となっている場合は、計算シートの結果と実際の請求金額が一致しない場合があります。

Sheet 改定後料金
A1: 使用料計算式（2か月分） | F1: =G10 -> 16 | G1: =G11 -> 40 | H1: =G12 -> 60 | I1: =G13 -> 100 | J1: =G14 -> 200 | K1: =G15 -> 400 | L1: =G16 -> 1000 | M1: =G17 -> 2000
B2: （消費税は含まれておりません） | G2: =D11 -> 135 | H2: =D12 -> 175 | I2: =D13 -> 215 | J2: =D14 -> 255 | K2: =D15 -> 295 | L2: =D16 -> 345 | M2: =D17 -> 395 | N2: =D18 -> 440
A4: 水道使用量 | B4: =日野市下水道使用料計算シート!D4 -> 32 | C4: m3
A6: 下水道使用料 | B6: =SUM(B10:B18) -> 3580 | C6: 円 | D6: 消費税率 | E6: 0.1
A9: 分 類 | B9: 金 額 | D9: 単価円/m3 | E9: 水道使用量
A10: 基本使用料 | B10: 1420 | C10: 円 | E10: 0 | F10: ～ | G10: 16 | H10: m3
A11: 従量使用料１ | B11: =IF(B4-G1>0,(G1-F1)*G2,IF(B4-F1<=0,0,(B4-F1)*G2)) -> 2160 | C11: 円 | D11: 135 | E11: 17 | F11: ～ | G11: 40 | H11: m3
A12: 従量使用料2 | B12: =IF(B4-H1>0,(H1-G1)*H2,IF(B4-G1<=0,0,(B4-G1)*H2)) -> 0 | C12: 円 | D12: 175 | E12: 41 | F12: ～ | G12: 60 | H12: m3
A13: 従量使用料3 | B13: =IF(B4-I1>0,(I1-H1)*I2,IF(B4-H1<=0,0,(B4-H1)*I2)) -> 0 | C13: 円 | D13: 215 | E13: 61 | F13: ～ | G13: 100 | H13: m3
A14: 従量使用料4 | B14: =IF(B4-J1>0,(J1-I1)*J2,IF(B4-I1<=0,0,(B4-I1)*J2)) -> 0 | C14: 円 | D14: 255 | E14: 101 | F14: ～ | G14: 200 | H14: m3
A15: 従量使用料5 | B15: =IF(B4-K1>0,(K1-J1)*K2,IF(B4-J1<=0,0,(B4-J1)*K2)) -> 0 | C15: 円 | D15: 295 | E15: 201 | F15: ～ | G15: 400 | H15: m3
A16: 従量使用料6 | B16: =IF(B4-L1>0,(L1-K1)*L2,IF(B4-K1<=0,0,(B4-K1)*L2)) -> 0 | C16: 円 | D16: 345 | E16: 401 | F16: ～ | G16: 1000 | H16: m3
A17: 従量使用料7 | B17: =IF(B4-M1>0,(M1-L1)*M2,IF(B4-L1<=0,0,(B4-L1)*M2)) -> 0 | C17: 円 | D17: 395 | E17: 1001 | F17: ～ | G17: 2000 | H17: m3
A18: 従量使用料8 | B18: =IF(B4-M1>0,(B4-M1)*N2,0) -> 0 | C18: 円 | D18: 440 | E18: 2001 | F18: ～ | H18: m3

Sheet 改定前料金
A1: 使用料計算式（2か月分） | F1: =G10 -> 16 | G1: =G11 -> 40 | H1: =G12 -> 60 | I1: =G13 -> 100 | J1: =G14 -> 200 | K1: =G15 -> 400 | L1: =G16 -> 1000 | M1: =G17 -> 2000
B2: （消費税は含まれておりません） | G2: =D11 -> 110 | H2: =D12 -> 140 | I2: =D13 -> 170 | J2: =D14 -> 200 | K2: =D15 -> 230 | L2: =D16 -> 270 | M2: =D17 -> 310 | N2: =D18 -> 345
A4: 水道使用量 | B4: =日野市下水道使用料計算シート!D4 -> 32 | C4: m3
A6: 下水道使用料 | B6: =SUM(B10:B18) -> 2880 | C6: 円 | D6: 消費税率 | E6: 0.1
A9: 分 類 | B9: 金 額 | D9: 単価円/m3 | E9: 水道使用量
A10: 基本使用料 | B10: 1120 | C10: 円 | E10: 0 | F10: ～ | G10: 16 | H10: m3
A11: 従量使用料１ | B11: =IF(B4-G1>0,(G1-F1)*G2,IF(B4-F1<=0,0,(B4-F1)*G2)) -> 1760 | C11: 円 | D11: 110 | E11: 17 | F11: ～ | G11: 40 | H11: m3
A12: 従量使用料2 | B12: =IF(B4-H1>0,(H1-G1)*H2,IF(B4-G1<=0,0,(B4-G1)*H2)) -> 0 | C12: 円 | D12: 140 | E12: 41 | F12: ～ | G12: 60 | H12: m3
A13: 従量使用料3 | B13: =IF(B4-I1>0,(I1-H1)*I2,IF(B4-H1<=0,0,(B4-H1)*I2)) -> 0 | C13: 円 | D13: 170 | E13: 61 | F13: ～ | G13: 100 | H13: m3
A14: 従量使用料4 | B14: =IF(B4-J1>0,(J1-I1)*J2,IF(B4-I1<=0,0,(B4-I1)*J2)) -> 0 | C14: 円 | D14: 200 | E14: 101 | F14: ～ | G14: 200 | H14: m3
A15: 従量使用料5 | B15: =IF(B4-K1>0,(K1-J1)*K2,IF(B4-J1<=0,0,(B4-J1)*K2)) -> 0 | C15: 円 | D15: 230 | E15: 201 | F15: ～ | G15: 400 | H15: m3
A16: 従量使用料6 | B16: =IF(B4-L1>0,(L1-K1)*L2,IF(B4-K1<=0,0,(B4-K1)*L2)) -> 0 | C16: 円 | D16: 270 | E16: 401 | F16: ～ | G16: 1000 | H16: m3
A17: 従量使用料7 | B17: =IF(B4-M1>0,(M1-L1)*M2,IF(B4-L1<=0,0,(B4-L1)*M2)) -> 0 | C17: 円 | D17: 310 | E17: 1001 | F17: ～ | G17: 2000 | H17: m3
A18: 従量使用料8 | B18: =IF(B4-M1>0,(B4-M1)*N2,0) -> 0 | C18: 円 | D18: 345 | E18: 2001 | F18: ～ | H18: m3
